<?xml version="1.0"?>
<Capabilities xmlns="http://www.opengis.net/wmts/1.0" xmlns:ows="http://www.opengis.net/ows/1.1" xmlns:xlink="http://www.w3.org/1999/xlink" xmlns:xsi="http://www.w3.org/2001/XMLSchema-instance" xmlns:gml="http://www.opengis.net/gml" xsi:schemaLocation="http://www.opengis.net/wmts/1.0   ../wmtsGetCapabilities_response.xsd" version="1.0.0">
  <ows:ServiceIdentification>
    <ows:Title></ows:Title>
    <ows:Abstract></ows:Abstract>
    <ows:ServiceType>OGC WMTS</ows:ServiceType>
    <ows:ServiceTypeVersion>1.0.0</ows:ServiceTypeVersion>
    <ows:Fees>none</ows:Fees>
    <ows:AccessConstraints>none</ows:AccessConstraints>
  </ows:ServiceIdentification>
  <Contents>
    <Layer>
      <ows:Title>Network Rail Aerial</ows:Title>
      <ows:Abstract></ows:Abstract>
      <ows:WGS84BoundingBox>
        <ows:LowerCorner>-2.97263662681 54.0183316505</ows:LowerCorner>
        <ows:UpperCorner>-2.24303058343 54.9370076871</ows:UpperCorner>
      </ows:WGS84BoundingBox>
      <ows:Identifier>settlecarlisle</ows:Identifier>
      <Style>
        <ows:Identifier>default</ows:Identifier>
      </Style>
      <Format>image/png</Format>
      <TileMatrixSetLink>
        <TileMatrixSet>settlecarlisle_grid</TileMatrixSet>
      </TileMatrixSetLink>
      <ResourceURL format="image/png" resourceType="tile"
          template="http://maps.burialgrounds.co.uk/Settle_aerial/wmts/settlecarlisle/{TileMatrixSet}/{TileMatrix}/{TileCol}/{TileRow}.png"/>
    </Layer>
    <Layer>
      <ows:Title>Settle Carlisle Plans</ows:Title>
      <ows:Abstract></ows:Abstract>
      <ows:WGS84BoundingBox>
        <ows:LowerCorner>-2.97263662681 54.0183316505</ows:LowerCorner>
        <ows:UpperCorner>-2.24303058343 54.9370076871</ows:UpperCorner>
      </ows:WGS84BoundingBox>
      <ows:Identifier>settlecarlisleplans</ows:Identifier>
      <Style>
        <ows:Identifier>default</ows:Identifier>
      </Style>
      <Format>image/png</Format>
      <TileMatrixSetLink>
        <TileMatrixSet>settlecarlisleplans_grid</TileMatrixSet>
      </TileMatrixSetLink>
      <ResourceURL format="image/png" resourceType="tile"
          template="http://maps.burialgrounds.co.uk/Settle_aerial/wmts/settlecarlisleplans/{TileMatrixSet}/{TileMatrix}/{TileCol}/{TileRow}.png"/>
    </Layer>
    <Layer>
      <ows:Title>Settle Carlisle Plans</ows:Title>
      <ows:Abstract></ows:Abstract>
      <ows:WGS84BoundingBox>
        <ows:LowerCorner>-2.94270372945 54.0324370934</ows:LowerCorner>
        <ows:UpperCorner>-2.26868576433 54.8987511586</ows:UpperCorner>
      </ows:WGS84BoundingBox>
      <ows:Identifier>settlecarlislerailplans</ows:Identifier>
      <Style>
        <ows:Identifier>default</ows:Identifier>
      </Style>
      <Format>image/png</Format>
      <TileMatrixSetLink>
        <TileMatrixSet>settlecarlislerailplans_grid</TileMatrixSet>
      </TileMatrixSetLink>
      <ResourceURL format="image/png" resourceType="tile"
          template="http://maps.burialgrounds.co.uk/Settle_aerial/wmts/settlecarlislerailplans/{TileMatrixSet}/{TileMatrix}/{TileCol}/{TileRow}.png"/>
    </Layer>
    <Layer>
      <ows:Title>Network Rail Aerial</ows:Title>
      <ows:Abstract></ows:Abstract>
      <ows:WGS84BoundingBox>
        <ows:LowerCorner>-2.94270372945 54.0324370934</ows:LowerCorner>
        <ows:UpperCorner>-2.26868576433 54.8987511586</ows:UpperCorner>
      </ows:WGS84BoundingBox>
      <ows:Identifier>settlecarlisleortho</ows:Identifier>
      <Style>
        <ows:Identifier>default</ows:Identifier>
      </Style>
      <Format>image/png</Format>
      <TileMatrixSetLink>
        <TileMatrixSet>settlecarlisleortho_grid</TileMatrixSet>
      </TileMatrixSetLink>
      <ResourceURL format="image/png" resourceType="tile"
          template="http://maps.burialgrounds.co.uk/Settle_aerial/wmts/settlecarlisleortho/{TileMatrixSet}/{TileMatrix}/{TileCol}/{TileRow}.png"/>
    </Layer>
    <Layer>
      <ows:Title>Settle Carlisle Vector Map</ows:Title>
      <ows:Abstract></ows:Abstract>
      <ows:WGS84BoundingBox>
        <ows:LowerCorner>-2.94270372945 54.0324370934</ows:LowerCorner>
        <ows:UpperCorner>-2.26868576433 54.8987511586</ows:UpperCorner>
      </ows:WGS84BoundingBox>
      <ows:Identifier>settlecarlislevectormap</ows:Identifier>
      <Style>
        <ows:Identifier>default</ows:Identifier>
      </Style>
      <Format>image/png</Format>
      <TileMatrixSetLink>
        <TileMatrixSet>settlecarlislevectormap_grid</TileMatrixSet>
      </TileMatrixSetLink>
      <ResourceURL format="image/png" resourceType="tile"
          template="http://maps.burialgrounds.co.uk/Settle_aerial/wmts/settlecarlislevectormap/{TileMatrixSet}/{TileMatrix}/{TileCol}/{TileRow}.png"/>
    </Layer>
    <Layer>
      <ows:Title>Settle Carlisle Plans</ows:Title>
      <ows:Abstract></ows:Abstract>
      <ows:WGS84BoundingBox>
        <ows:LowerCorner>-2.97263662681 54.0183316505</ows:LowerCorner>
        <ows:UpperCorner>-2.24303058343 54.9370076871</ows:UpperCorner>
      </ows:WGS84BoundingBox>
      <ows:Identifier>SettleFeatures</ows:Identifier>
      <Style>
        <ows:Identifier>default</ows:Identifier>
      </Style>
      <Format>image/png</Format>
      <TileMatrixSetLink>
        <TileMatrixSet>SettleFeatures_grid</TileMatrixSet>
      </TileMatrixSetLink>
      <ResourceURL format="image/png" resourceType="tile"
          template="http://maps.burialgrounds.co.uk/Settle_aerial/wmts/SettleFeatures/{TileMatrixSet}/{TileMatrix}/{TileCol}/{TileRow}.png"/>
    </Layer>
    <TileMatrixSet>
      <ows:Identifier>settlecarlislevectormap_grid</ows:Identifier>
      <ows:SupportedCRS>EPSG:27700</ows:SupportedCRS>
      <TileMatrix>
        <ows:Identifier>00</ows:Identifier>
        <ScaleDenominator>500000.0</ScaleDenominator>
        <TopLeftCorner>339637.0 556037.0</TopLeftCorner>
        <TileWidth>512</TileWidth>
        <TileHeight>512</TileHeight>
        <MatrixWidth>1</MatrixWidth>
        <MatrixHeight>2</MatrixHeight>
      </TileMatrix>
      <TileMatrix>
        <ows:Identifier>01</ows:Identifier>
        <ScaleDenominator>50000.0</ScaleDenominator>
        <TopLeftCorner>339637.0 556037.0</TopLeftCorner>
        <TileWidth>512</TileWidth>
        <TileHeight>512</TileHeight>
        <MatrixWidth>6</MatrixWidth>
        <MatrixHeight>14</MatrixHeight>
      </TileMatrix>
      <TileMatrix>
        <ows:Identifier>02</ows:Identifier>
        <ScaleDenominator>10000.0</ScaleDenominator>
        <TopLeftCorner>339637.0 556037.0</TopLeftCorner>
        <TileWidth>512</TileWidth>
        <TileHeight>512</TileHeight>
        <MatrixWidth>30</MatrixWidth>
        <MatrixHeight>67</MatrixHeight>
      </TileMatrix>
      <TileMatrix>
        <ows:Identifier>03</ows:Identifier>
        <ScaleDenominator>2500.0</ScaleDenominator>
        <TopLeftCorner>339637.0 556037.0</TopLeftCorner>
        <TileWidth>512</TileWidth>
        <TileHeight>512</TileHeight>
        <MatrixWidth>120</MatrixWidth>
        <MatrixHeight>268</MatrixHeight>
      </TileMatrix>
      <TileMatrix>
        <ows:Identifier>04</ows:Identifier>
        <ScaleDenominator>500.0</ScaleDenominator>
        <TopLeftCorner>339637.0 556037.0</TopLeftCorner>
        <TileWidth>512</TileWidth>
        <TileHeight>512</TileHeight>
        <MatrixWidth>598</MatrixWidth>
        <MatrixHeight>1340</MatrixHeight>
      </TileMatrix>
      <TileMatrix>
        <ows:Identifier>05</ows:Identifier>
        <ScaleDenominator>250.0</ScaleDenominator>
        <TopLeftCorner>339637.0 556037.0</TopLeftCorner>
        <TileWidth>512</TileWidth>
        <TileHeight>512</TileHeight>
        <MatrixWidth>1196</MatrixWidth>
        <MatrixHeight>2680</MatrixHeight>
      </TileMatrix>
    </TileMatrixSet>
    <TileMatrixSet>
      <ows:Identifier>settlecarlisleortho_grid</ows:Identifier>
      <ows:SupportedCRS>EPSG:27700</ows:SupportedCRS>
      <TileMatrix>
        <ows:Identifier>00</ows:Identifier>
        <ScaleDenominator>500000.0</ScaleDenominator>
        <TopLeftCorner>339637.0 556037.0</TopLeftCorner>
        <TileWidth>512</TileWidth>
        <TileHeight>512</TileHeight>
        <MatrixWidth>1</MatrixWidth>
        <MatrixHeight>2</MatrixHeight>
      </TileMatrix>
      <TileMatrix>
        <ows:Identifier>01</ows:Identifier>
        <ScaleDenominator>50000.0</ScaleDenominator>
        <TopLeftCorner>339637.0 556037.0</TopLeftCorner>
        <TileWidth>512</TileWidth>
        <TileHeight>512</TileHeight>
        <MatrixWidth>6</MatrixWidth>
        <MatrixHeight>14</MatrixHeight>
      </TileMatrix>
      <TileMatrix>
        <ows:Identifier>02</ows:Identifier>
        <ScaleDenominator>10000.0</ScaleDenominator>
        <TopLeftCorner>339637.0 556037.0</TopLeftCorner>
        <TileWidth>512</TileWidth>
        <TileHeight>512</TileHeight>
        <MatrixWidth>30</MatrixWidth>
        <MatrixHeight>67</MatrixHeight>
      </TileMatrix>
      <TileMatrix>
        <ows:Identifier>03</ows:Identifier>
        <ScaleDenominator>2500.0</ScaleDenominator>
        <TopLeftCorner>339637.0 556037.0</TopLeftCorner>
        <TileWidth>512</TileWidth>
        <TileHeight>512</TileHeight>
        <MatrixWidth>120</MatrixWidth>
        <MatrixHeight>268</MatrixHeight>
      </TileMatrix>
      <TileMatrix>
        <ows:Identifier>04</ows:Identifier>
        <ScaleDenominator>500.0</ScaleDenominator>
        <TopLeftCorner>339637.0 556037.0</TopLeftCorner>
        <TileWidth>512</TileWidth>
        <TileHeight>512</TileHeight>
        <MatrixWidth>598</MatrixWidth>
        <MatrixHeight>1340</MatrixHeight>
      </TileMatrix>
      <TileMatrix>
        <ows:Identifier>05</ows:Identifier>
        <ScaleDenominator>250.0</ScaleDenominator>
        <TopLeftCorner>339637.0 556037.0</TopLeftCorner>
        <TileWidth>512</TileWidth>
        <TileHeight>512</TileHeight>
        <MatrixWidth>1196</MatrixWidth>
        <MatrixHeight>2680</MatrixHeight>
      </TileMatrix>
    </TileMatrixSet>
    <TileMatrixSet>
      <ows:Identifier>SettleFeatures_grid</ows:Identifier>
      <ows:SupportedCRS>EPSG:27700</ows:SupportedCRS>
      <TileMatrix>
        <ows:Identifier>00</ows:Identifier>
        <ScaleDenominator>10000000.0</ScaleDenominator>
        <TopLeftCorner>337776.0 560288.0</TopLeftCorner>
        <TileWidth>256</TileWidth>
        <TileHeight>256</TileHeight>
        <MatrixWidth>1</MatrixWidth>
        <MatrixHeight>1</MatrixHeight>
      </TileMatrix>
      <TileMatrix>
        <ows:Identifier>01</ows:Identifier>
        <ScaleDenominator>5000000.0</ScaleDenominator>
        <TopLeftCorner>337776.0 560288.0</TopLeftCorner>
        <TileWidth>256</TileWidth>
        <TileHeight>256</TileHeight>
        <MatrixWidth>1</MatrixWidth>
        <MatrixHeight>1</MatrixHeight>
      </TileMatrix>
      <TileMatrix>
        <ows:Identifier>02</ows:Identifier>
        <ScaleDenominator>2500000.0</ScaleDenominator>
        <TopLeftCorner>337776.0 560288.0</TopLeftCorner>
        <TileWidth>256</TileWidth>
        <TileHeight>256</TileHeight>
        <MatrixWidth>1</MatrixWidth>
        <MatrixHeight>1</MatrixHeight>
      </TileMatrix>
      <TileMatrix>
        <ows:Identifier>03</ows:Identifier>
        <ScaleDenominator>1250000.0</ScaleDenominator>
        <TopLeftCorner>337776.0 560288.0</TopLeftCorner>
        <TileWidth>256</TileWidth>
        <TileHeight>256</TileHeight>
        <MatrixWidth>1</MatrixWidth>
        <MatrixHeight>2</MatrixHeight>
      </TileMatrix>
      <TileMatrix>
        <ows:Identifier>04</ows:Identifier>
        <ScaleDenominator>1000000.0</ScaleDenominator>
        <TopLeftCorner>337776.0 560288.0</TopLeftCorner>
        <TileWidth>256</TileWidth>
        <TileHeight>256</TileHeight>
        <MatrixWidth>1</MatrixWidth>
        <MatrixHeight>2</MatrixHeight>
      </TileMatrix>
      <TileMatrix>
        <ows:Identifier>05</ows:Identifier>
        <ScaleDenominator>500000.0</ScaleDenominator>
        <TopLeftCorner>337776.0 560288.0</TopLeftCorner>
        <TileWidth>256</TileWidth>
        <TileHeight>256</TileHeight>
        <MatrixWidth>2</MatrixWidth>
        <MatrixHeight>3</MatrixHeight>
      </TileMatrix>
      <TileMatrix>
        <ows:Identifier>06</ows:Identifier>
        <ScaleDenominator>250000.0</ScaleDenominator>
        <TopLeftCorner>337776.0 560288.0</TopLeftCorner>
        <TileWidth>256</TileWidth>
        <TileHeight>256</TileHeight>
        <MatrixWidth>3</MatrixWidth>
        <MatrixHeight>6</MatrixHeight>
      </TileMatrix>
      <TileMatrix>
        <ows:Identifier>07</ows:Identifier>
        <ScaleDenominator>100000.0</ScaleDenominator>
        <TopLeftCorner>337776.0 560288.0</TopLeftCorner>
        <TileWidth>256</TileWidth>
        <TileHeight>256</TileHeight>
        <MatrixWidth>7</MatrixWidth>
        <MatrixHeight>15</MatrixHeight>
      </TileMatrix>
      <TileMatrix>
        <ows:Identifier>08</ows:Identifier>
        <ScaleDenominator>50000.0</ScaleDenominator>
        <TopLeftCorner>337776.0 560288.0</TopLeftCorner>
        <TileWidth>256</TileWidth>
        <TileHeight>256</TileHeight>
        <MatrixWidth>13</MatrixWidth>
        <MatrixHeight>29</MatrixHeight>
      </TileMatrix>
      <TileMatrix>
        <ows:Identifier>09</ows:Identifier>
        <ScaleDenominator>25000.0</ScaleDenominator>
        <TopLeftCorner>337776.0 560288.0</TopLeftCorner>
        <TileWidth>256</TileWidth>
        <TileHeight>256</TileHeight>
        <MatrixWidth>26</MatrixWidth>
        <MatrixHeight>57</MatrixHeight>
      </TileMatrix>
      <TileMatrix>
        <ows:Identifier>10</ows:Identifier>
        <ScaleDenominator>10000.0</ScaleDenominator>
        <TopLeftCorner>337776.0 560288.0</TopLeftCorner>
        <TileWidth>256</TileWidth>
        <TileHeight>256</TileHeight>
        <MatrixWidth>65</MatrixWidth>
        <MatrixHeight>143</MatrixHeight>
      </TileMatrix>
      <TileMatrix>
        <ows:Identifier>11</ows:Identifier>
        <ScaleDenominator>5000.0</ScaleDenominator>
        <TopLeftCorner>337776.0 560288.0</TopLeftCorner>
        <TileWidth>256</TileWidth>
        <TileHeight>256</TileHeight>
        <MatrixWidth>130</MatrixWidth>
        <MatrixHeight>285</MatrixHeight>
      </TileMatrix>
      <TileMatrix>
        <ows:Identifier>12</ows:Identifier>
        <ScaleDenominator>2500.0</ScaleDenominator>
        <TopLeftCorner>337776.0 560288.0</TopLeftCorner>
        <TileWidth>256</TileWidth>
        <TileHeight>256</TileHeight>
        <MatrixWidth>259</MatrixWidth>
        <MatrixHeight>569</MatrixHeight>
      </TileMatrix>
      <TileMatrix>
        <ows:Identifier>13</ows:Identifier>
        <ScaleDenominator>1000.0</ScaleDenominator>
        <TopLeftCorner>337776.0 560288.0</TopLeftCorner>
        <TileWidth>256</TileWidth>
        <TileHeight>256</TileHeight>
        <MatrixWidth>648</MatrixWidth>
        <MatrixHeight>1421</MatrixHeight>
      </TileMatrix>
      <TileMatrix>
        <ows:Identifier>14</ows:Identifier>
        <ScaleDenominator>500.0</ScaleDenominator>
        <TopLeftCorner>337776.0 560288.0</TopLeftCorner>
        <TileWidth>256</TileWidth>
        <TileHeight>256</TileHeight>
        <MatrixWidth>1295</MatrixWidth>
        <MatrixHeight>2842</MatrixHeight>
      </TileMatrix>
      <TileMatrix>
        <ows:Identifier>15</ows:Identifier>
        <ScaleDenominator>250.0</ScaleDenominator>
        <TopLeftCorner>337776.0 560288.0</TopLeftCorner>
        <TileWidth>256</TileWidth>
        <TileHeight>256</TileHeight>
        <MatrixWidth>2590</MatrixWidth>
        <MatrixHeight>5683</MatrixHeight>
      </TileMatrix>
      <TileMatrix>
        <ows:Identifier>16</ows:Identifier>
        <ScaleDenominator>100.0</ScaleDenominator>
        <TopLeftCorner>337776.0 560288.0</TopLeftCorner>
        <TileWidth>256</TileWidth>
        <TileHeight>256</TileHeight>
        <MatrixWidth>6474</MatrixWidth>
        <MatrixHeight>14207</MatrixHeight>
      </TileMatrix>
    </TileMatrixSet>
    <TileMatrixSet>
      <ows:Identifier>settlecarlislerailplans_grid</ows:Identifier>
      <ows:SupportedCRS>EPSG:27700</ows:SupportedCRS>
      <TileMatrix>
        <ows:Identifier>00</ows:Identifier>
        <ScaleDenominator>500000.0</ScaleDenominator>
        <TopLeftCorner>339637.0 556037.0</TopLeftCorner>
        <TileWidth>512</TileWidth>
        <TileHeight>512</TileHeight>
        <MatrixWidth>1</MatrixWidth>
        <MatrixHeight>2</MatrixHeight>
      </TileMatrix>
      <TileMatrix>
        <ows:Identifier>01</ows:Identifier>
        <ScaleDenominator>50000.0</ScaleDenominator>
        <TopLeftCorner>339637.0 556037.0</TopLeftCorner>
        <TileWidth>512</TileWidth>
        <TileHeight>512</TileHeight>
        <MatrixWidth>6</MatrixWidth>
        <MatrixHeight>14</MatrixHeight>
      </TileMatrix>
      <TileMatrix>
        <ows:Identifier>02</ows:Identifier>
        <ScaleDenominator>10000.0</ScaleDenominator>
        <TopLeftCorner>339637.0 556037.0</TopLeftCorner>
        <TileWidth>512</TileWidth>
        <TileHeight>512</TileHeight>
        <MatrixWidth>30</MatrixWidth>
        <MatrixHeight>67</MatrixHeight>
      </TileMatrix>
      <TileMatrix>
        <ows:Identifier>03</ows:Identifier>
        <ScaleDenominator>2500.0</ScaleDenominator>
        <TopLeftCorner>339637.0 556037.0</TopLeftCorner>
        <TileWidth>512</TileWidth>
        <TileHeight>512</TileHeight>
        <MatrixWidth>120</MatrixWidth>
        <MatrixHeight>268</MatrixHeight>
      </TileMatrix>
      <TileMatrix>
        <ows:Identifier>04</ows:Identifier>
        <ScaleDenominator>500.0</ScaleDenominator>
        <TopLeftCorner>339637.0 556037.0</TopLeftCorner>
        <TileWidth>512</TileWidth>
        <TileHeight>512</TileHeight>
        <MatrixWidth>598</MatrixWidth>
        <MatrixHeight>1340</MatrixHeight>
      </TileMatrix>
      <TileMatrix>
        <ows:Identifier>05</ows:Identifier>
        <ScaleDenominator>250.0</ScaleDenominator>
        <TopLeftCorner>339637.0 556037.0</TopLeftCorner>
        <TileWidth>512</TileWidth>
        <TileHeight>512</TileHeight>
        <MatrixWidth>1196</MatrixWidth>
        <MatrixHeight>2680</MatrixHeight>
      </TileMatrix>
    </TileMatrixSet>
    <TileMatrixSet>
      <ows:Identifier>settlecarlisle_grid</ows:Identifier>
      <ows:SupportedCRS>EPSG:27700</ows:SupportedCRS>
      <TileMatrix>
        <ows:Identifier>00</ows:Identifier>
        <ScaleDenominator>10000000.0</ScaleDenominator>
        <TopLeftCorner>337776.0 560288.0</TopLeftCorner>
        <TileWidth>256</TileWidth>
        <TileHeight>256</TileHeight>
        <MatrixWidth>1</MatrixWidth>
        <MatrixHeight>1</MatrixHeight>
      </TileMatrix>
      <TileMatrix>
        <ows:Identifier>01</ows:Identifier>
        <ScaleDenominator>5000000.0</ScaleDenominator>
        <TopLeftCorner>337776.0 560288.0</TopLeftCorner>
        <TileWidth>256</TileWidth>
        <TileHeight>256</TileHeight>
        <MatrixWidth>1</MatrixWidth>
        <MatrixHeight>1</MatrixHeight>
      </TileMatrix>
      <TileMatrix>
        <ows:Identifier>02</ows:Identifier>
        <ScaleDenominator>2500000.0</ScaleDenominator>
        <TopLeftCorner>337776.0 560288.0</TopLeftCorner>
        <TileWidth>256</TileWidth>
        <TileHeight>256</TileHeight>
        <MatrixWidth>1</MatrixWidth>
        <MatrixHeight>1</MatrixHeight>
      </TileMatrix>
      <TileMatrix>
        <ows:Identifier>03</ows:Identifier>
        <ScaleDenominator>1250000.0</ScaleDenominator>
        <TopLeftCorner>337776.0 560288.0</TopLeftCorner>
        <TileWidth>256</TileWidth>
        <TileHeight>256</TileHeight>
        <MatrixWidth>1</MatrixWidth>
        <MatrixHeight>2</MatrixHeight>
      </TileMatrix>
      <TileMatrix>
        <ows:Identifier>04</ows:Identifier>
        <ScaleDenominator>1000000.0</ScaleDenominator>
        <TopLeftCorner>337776.0 560288.0</TopLeftCorner>
        <TileWidth>256</TileWidth>
        <TileHeight>256</TileHeight>
        <MatrixWidth>1</MatrixWidth>
        <MatrixHeight>2</MatrixHeight>
      </TileMatrix>
      <TileMatrix>
        <ows:Identifier>05</ows:Identifier>
        <ScaleDenominator>500000.0</ScaleDenominator>
        <TopLeftCorner>337776.0 560288.0</TopLeftCorner>
        <TileWidth>256</TileWidth>
        <TileHeight>256</TileHeight>
        <MatrixWidth>2</MatrixWidth>
        <MatrixHeight>3</MatrixHeight>
      </TileMatrix>
      <TileMatrix>
        <ows:Identifier>06</ows:Identifier>
        <ScaleDenominator>250000.0</ScaleDenominator>
        <TopLeftCorner>337776.0 560288.0</TopLeftCorner>
        <TileWidth>256</TileWidth>
        <TileHeight>256</TileHeight>
        <MatrixWidth>3</MatrixWidth>
        <MatrixHeight>6</MatrixHeight>
      </TileMatrix>
      <TileMatrix>
        <ows:Identifier>07</ows:Identifier>
        <ScaleDenominator>100000.0</ScaleDenominator>
        <TopLeftCorner>337776.0 560288.0</TopLeftCorner>
        <TileWidth>256</TileWidth>
        <TileHeight>256</TileHeight>
        <MatrixWidth>7</MatrixWidth>
        <MatrixHeight>15</MatrixHeight>
      </TileMatrix>
      <TileMatrix>
        <ows:Identifier>08</ows:Identifier>
        <ScaleDenominator>50000.0</ScaleDenominator>
        <TopLeftCorner>337776.0 560288.0</TopLeftCorner>
        <TileWidth>256</TileWidth>
        <TileHeight>256</TileHeight>
        <MatrixWidth>13</MatrixWidth>
        <MatrixHeight>29</MatrixHeight>
      </TileMatrix>
      <TileMatrix>
        <ows:Identifier>09</ows:Identifier>
        <ScaleDenominator>25000.0</ScaleDenominator>
        <TopLeftCorner>337776.0 560288.0</TopLeftCorner>
        <TileWidth>256</TileWidth>
        <TileHeight>256</TileHeight>
        <MatrixWidth>26</MatrixWidth>
        <MatrixHeight>57</MatrixHeight>
      </TileMatrix>
      <TileMatrix>
        <ows:Identifier>10</ows:Identifier>
        <ScaleDenominator>10000.0</ScaleDenominator>
        <TopLeftCorner>337776.0 560288.0</TopLeftCorner>
        <TileWidth>256</TileWidth>
        <TileHeight>256</TileHeight>
        <MatrixWidth>65</MatrixWidth>
        <MatrixHeight>143</MatrixHeight>
      </TileMatrix>
      <TileMatrix>
        <ows:Identifier>11</ows:Identifier>
        <ScaleDenominator>5000.0</ScaleDenominator>
        <TopLeftCorner>337776.0 560288.0</TopLeftCorner>
        <TileWidth>256</TileWidth>
        <TileHeight>256</TileHeight>
        <MatrixWidth>130</MatrixWidth>
        <MatrixHeight>285</MatrixHeight>
      </TileMatrix>
      <TileMatrix>
        <ows:Identifier>12</ows:Identifier>
        <ScaleDenominator>2500.0</ScaleDenominator>
        <TopLeftCorner>337776.0 560288.0</TopLeftCorner>
        <TileWidth>256</TileWidth>
        <TileHeight>256</TileHeight>
        <MatrixWidth>259</MatrixWidth>
        <MatrixHeight>569</MatrixHeight>
      </TileMatrix>
      <TileMatrix>
        <ows:Identifier>13</ows:Identifier>
        <ScaleDenominator>1000.0</ScaleDenominator>
        <TopLeftCorner>337776.0 560288.0</TopLeftCorner>
        <TileWidth>256</TileWidth>
        <TileHeight>256</TileHeight>
        <MatrixWidth>648</MatrixWidth>
        <MatrixHeight>1421</MatrixHeight>
      </TileMatrix>
      <TileMatrix>
        <ows:Identifier>14</ows:Identifier>
        <ScaleDenominator>500.0</ScaleDenominator>
        <TopLeftCorner>337776.0 560288.0</TopLeftCorner>
        <TileWidth>256</TileWidth>
        <TileHeight>256</TileHeight>
        <MatrixWidth>1295</MatrixWidth>
        <MatrixHeight>2842</MatrixHeight>
      </TileMatrix>
      <TileMatrix>
        <ows:Identifier>15</ows:Identifier>
        <ScaleDenominator>250.0</ScaleDenominator>
        <TopLeftCorner>337776.0 560288.0</TopLeftCorner>
        <TileWidth>256</TileWidth>
        <TileHeight>256</TileHeight>
        <MatrixWidth>2590</MatrixWidth>
        <MatrixHeight>5683</MatrixHeight>
      </TileMatrix>
      <TileMatrix>
        <ows:Identifier>16</ows:Identifier>
        <ScaleDenominator>100.0</ScaleDenominator>
        <TopLeftCorner>337776.0 560288.0</TopLeftCorner>
